BEGIN:VCALENDAR
VERSION:2.0
PRODID:-//ChamberMaster//Event Calendar 2.0//EN
METHOD:PUBLISH
X-PUBLISHED-TTL:P3D
REFRESH-INTERVAL:P3D
CALSCALE:GREGORIAN
BEGIN:VEVENT
DTSTART:20261014T203000Z
DTEND:20261014T223000Z
X-MICROSOFT-CDO-ALLDAYEVENT:FALSE
SUMMARY:EACC 4th Quarter 2026 Board Meeting
DESCRIPTION:The EACC Board of Directors is a group of experienced business leaders who are charged with the responsibility of leading the EACC's vision and advising the staff on strategic actions.
X-ALT-DESC;FMTTYPE=text/html:The EACC&nbsp\;Board of Directors is a group of experienced&nbsp\;business leaders who are charged with the responsibility of leading the EACC&#39\;s vision and advising the staff on strategic actions.&nbsp\;&nbsp\;
LOCATION:
UID:e.2512.748
SEQUENCE:3
DTSTAMP:20260419T221131Z
URL:https://business.europe-cincinnati.com/events/details/eacc-4th-quarter-2026-board-meeting-748
END:VEVENT

END:VCALENDAR
